BEGIN:VCALENDAR
VERSION:2.0
PRODID:-//SafePlace - ECPv5.8.0//NONSGML v1.0//EN
CALSCALE:GREGORIAN
METHOD:PUBLISH
X-WR-CALNAME:SafePlace
X-ORIGINAL-URL:https://safeplacesiouxland.org
X-WR-CALDESC:Events for SafePlace
BEGIN:VTIMEZONE
TZID:UTC
BEGIN:STANDARD
TZOFFSETFROM:+0000
TZOFFSETTO:+0000
TZNAME:UTC
DTSTART:20160101T000000
END:STANDARD
END:VTIMEZONE
BEGIN:VEVENT
DTSTART;VALUE=DATE:20161005
DTEND;VALUE=DATE:20161006
DTSTAMP:20260419T170922
CREATED:20160930T061059Z
LAST-MODIFIED:20160930T061818Z
UID:680-1475625600-1475711999@safeplacesiouxland.org
SUMMARY:Local restaurant Minerva’s is hosting CSADV and 10% of all proceeds will go the agency
DESCRIPTION:
URL:https://safeplacesiouxland.org/event/local-restaurant-minervas-hosting-csadv-10-proceeds-will-go-agency/
ATTACH;FMTTYPE=image/gif:https://safeplacesiouxland.org/wp-content/uploads/2016/09/DV-Awareness-Month1.gif
END:VEVENT
END:VCALENDAR