BEGIN:VCALENDAR
VERSION:2.0
PRODID:-//SafePlace - ECPv5.8.0//NONSGML v1.0//EN
CALSCALE:GREGORIAN
METHOD:PUBLISH
X-WR-CALNAME:SafePlace
X-ORIGINAL-URL:https://safeplacesiouxland.org
X-WR-CALDESC:Events for SafePlace
BEGIN:VTIMEZONE
TZID:UTC
BEGIN:STANDARD
TZOFFSETFROM:+0000
TZOFFSETTO:+0000
TZNAME:UTC
DTSTART:20160101T000000
END:STANDARD
END:VTIMEZONE
BEGIN:VEVENT
DTSTART;VALUE=DATE:20161104
DTEND;VALUE=DATE:20161105
DTSTAMP:20260419T170801
CREATED:20161025T191435Z
LAST-MODIFIED:20161025T191435Z
UID:753-1478217600-1478303999@safeplacesiouxland.org
SUMMARY:Siouxland Sleep Out
DESCRIPTION:Learn how to participate in this event by visiting: http://www.siouxlandsleepout.com/
URL:https://safeplacesiouxland.org/event/siouxland-sleep-out/
ATTACH;FMTTYPE=image/png:https://safeplacesiouxland.org/wp-content/uploads/2016/10/siouxland-sleepout-10-year-full-4-c.png
END:VEVENT
END:VCALENDAR