BEGIN:VCALENDAR
VERSION:2.0
PRODID:-//SafePlace - ECPv5.8.0//NONSGML v1.0//EN
CALSCALE:GREGORIAN
METHOD:PUBLISH
X-WR-CALNAME:SafePlace
X-ORIGINAL-URL:https://safeplacesiouxland.org
X-WR-CALDESC:Events for SafePlace
BEGIN:VTIMEZONE
TZID:UTC
BEGIN:STANDARD
TZOFFSETFROM:+0000
TZOFFSETTO:+0000
TZNAME:UTC
DTSTART:20160101T000000
END:STANDARD
END:VTIMEZONE
BEGIN:VEVENT
DTSTART;VALUE=DATE:20161016
DTEND;VALUE=DATE:20161017
DTSTAMP:20260419T183752
CREATED:20160930T061547Z
LAST-MODIFIED:20160930T061547Z
UID:685-1476576000-1476662399@safeplacesiouxland.org
SUMMARY:Special section for Domestic Violence Awareness Month in Sioux City Journal
DESCRIPTION:The Sioux City Journal is publishing a special section for Domestic Violence Awareness Month on Sunday\, October 16 and again in The Weekender on Thursday\, October 20.
URL:https://safeplacesiouxland.org/event/special-section-domestic-violence-awareness-month-sioux-city-journal/
ATTACH;FMTTYPE=image/gif:https://safeplacesiouxland.org/wp-content/uploads/2016/09/DV-Awareness-Month1.gif
END:VEVENT
END:VCALENDAR