BEGIN:VCALENDAR
VERSION:2.0
PRODID:-//SafePlace - ECPv5.8.0//NONSGML v1.0//EN
CALSCALE:GREGORIAN
METHOD:PUBLISH
X-WR-CALNAME:SafePlace
X-ORIGINAL-URL:https://safeplacesiouxland.org
X-WR-CALDESC:Events for SafePlace
BEGIN:VTIMEZONE
TZID:UTC
BEGIN:STANDARD
TZOFFSETFROM:+0000
TZOFFSETTO:+0000
TZNAME:UTC
DTSTART:20160101T000000
END:STANDARD
END:VTIMEZONE
BEGIN:VEVENT
DTSTART;VALUE=DATE:20161004
DTEND;VALUE=DATE:20161005
DTSTAMP:20260419T184802
CREATED:20160930T061002Z
LAST-MODIFIED:20160930T061002Z
UID:678-1475539200-1475625599@safeplacesiouxland.org
SUMMARY:Woodbury County and Plymouth County Board of Supervisors declares October Domestic Violence Awareness Month
DESCRIPTION:On October 4th: Woodbury County and Plymouth County Board of Supervisors declares October Domestic Violence Awareness Month – members will be wearing purple ties/outfits
URL:https://safeplacesiouxland.org/event/woodbury-county-plymouth-county-board-supervisors-declares-october-domestic-violence-awareness-month/
ATTACH;FMTTYPE=image/gif:https://safeplacesiouxland.org/wp-content/uploads/2016/09/DV-Awareness-Month1.gif
END:VEVENT
END:VCALENDAR